BEGIN:VCALENDAR
VERSION:2.0
PRODID:-//SJ Dental Study Club - ECPv6.15.20//NONSGML v1.0//EN
CALSCALE:GREGORIAN
METHOD:PUBLISH
X-WR-CALNAME:SJ Dental Study Club
X-ORIGINAL-URL:https://www.sjdentalstudyclub.com
X-WR-CALDESC:Events for SJ Dental Study Club
REFRESH-INTERVAL;VALUE=DURATION:PT1H
X-Robots-Tag:noindex
X-PUBLISHED-TTL:PT1H
BEGIN:VTIMEZONE
TZID:America/New_York
BEGIN:DAYLIGHT
TZOFFSETFROM:-0500
TZOFFSETTO:-0400
TZNAME:EDT
DTSTART:20190310T070000
END:DAYLIGHT
BEGIN:STANDARD
TZOFFSETFROM:-0400
TZOFFSETTO:-0500
TZNAME:EST
DTSTART:20191103T060000
END:STANDARD
BEGIN:DAYLIGHT
TZOFFSETFROM:-0500
TZOFFSETTO:-0400
TZNAME:EDT
DTSTART:20200308T070000
END:DAYLIGHT
BEGIN:STANDARD
TZOFFSETFROM:-0400
TZOFFSETTO:-0500
TZNAME:EST
DTSTART:20201101T060000
END:STANDARD
BEGIN:DAYLIGHT
TZOFFSETFROM:-0500
TZOFFSETTO:-0400
TZNAME:EDT
DTSTART:20210314T070000
END:DAYLIGHT
BEGIN:STANDARD
TZOFFSETFROM:-0400
TZOFFSETTO:-0500
TZNAME:EST
DTSTART:20211107T060000
END:STANDARD
BEGIN:DAYLIGHT
TZOFFSETFROM:-0500
TZOFFSETTO:-0400
TZNAME:EDT
DTSTART:20220313T070000
END:DAYLIGHT
BEGIN:STANDARD
TZOFFSETFROM:-0400
TZOFFSETTO:-0500
TZNAME:EST
DTSTART:20221106T060000
END:STANDARD
BEGIN:DAYLIGHT
TZOFFSETFROM:-0500
TZOFFSETTO:-0400
TZNAME:EDT
DTSTART:20230312T070000
END:DAYLIGHT
BEGIN:STANDARD
TZOFFSETFROM:-0400
TZOFFSETTO:-0500
TZNAME:EST
DTSTART:20231105T060000
END:STANDARD
BEGIN:DAYLIGHT
TZOFFSETFROM:-0500
TZOFFSETTO:-0400
TZNAME:EDT
DTSTART:20240310T070000
END:DAYLIGHT
BEGIN:STANDARD
TZOFFSETFROM:-0400
TZOFFSETTO:-0500
TZNAME:EST
DTSTART:20241103T060000
END:STANDARD
END:VTIMEZONE
BEGIN:VEVENT
DTSTART;TZID=America/New_York:20230504T170000
DTEND;TZID=America/New_York:20230504T210000
DTSTAMP:20260419T110432
CREATED:20220802T124737Z
LAST-MODIFIED:20230424T031808Z
UID:646-1683219600-1683234000@www.sjdentalstudyclub.com
SUMMARY:Staff Appreciation Dinner CE
DESCRIPTION:Staff Appreciation Dinner CE at Caffe Aldo\, Cherry Hill\, NJ.
URL:https://www.sjdentalstudyclub.com/meeting/staff-appreciation-dinner-ce/
LOCATION:Caffe Aldo Lamberti\, 2011 Marlton Pike W\, Cherry Hill\, NJ\, 08002\, United States
CATEGORIES:Dinners,SJDSC Meetings
ORGANIZER;CN="Dr. Daniel Kubikian":MAILTO:info@sjperio.com
END:VEVENT
BEGIN:VEVENT
DTSTART;TZID=America/New_York:20200507T170000
DTEND;TZID=America/New_York:20200507T210000
DTSTAMP:20260419T110432
CREATED:20190718T175410Z
LAST-MODIFIED:20200127T132539Z
UID:361-1588870800-1588885200@www.sjdentalstudyclub.com
SUMMARY:Staff Appreciation Dinner CE
DESCRIPTION:Staff Appreciation Dinner CE at Maggiano’s\, Cherry Hill\, NJ. \nRSVP for this event on our contact page.
URL:https://www.sjdentalstudyclub.com/meeting/staff-appreciation-dinner-ce-tbd/
LOCATION:Maggiano’s Little Italy At Cherry Hill Mall\, 2000 New Jersey 38 #1180\, Cherry Hill\, NJ\, 08002\, United States
CATEGORIES:Dinners,SJDSC Meetings
ORGANIZER;CN="Dr. Daniel Kubikian":MAILTO:info@sjperio.com
END:VEVENT
END:VCALENDAR